BEGIN:VCALENDAR
PRODID:-//eluceo/ical//2.0/EN
VERSION:2.0
CALSCALE:GREGORIAN
BEGIN:VEVENT
UID:ffa84918e49aaa92c826074f1f37f78a
DTSTAMP:20260422T135430Z
SUMMARY:Swingsalabim 
DESCRIPTION:Das legendäre Mini swingfestival in Münsingen findet auch 202
 7 statt. Details folgen. \n\nVeranstaltungsort: \nSchlossgut Gemeindesaal\
 nSchlosstraße 8\n3110 Münsingen\nKarte: https://map.search.ch/Münsingen
 \,Schlosstraße-8
DTSTART:20270430T183000
DTEND:20270502T150000
LOCATION:Schlosstraße 8\, 3110 Münsingen
END:VEVENT
END:VCALENDAR
An internal server error occurred.