BEGIN:VCALENDAR
PRODID:-//eluceo/ical//2.0/EN
VERSION:2.0
CALSCALE:GREGORIAN
BEGIN:VEVENT
UID:2eaab478af2822b0e46afdf7a74adb7f
DTSTAMP:20260422T135643Z
SUMMARY:BEswingt 
DESCRIPTION:ab 22 Uhr "Nicole Eggenberger&amp\;the Gents"Nicole Eggenberger
  vocFlorian Favre pianoChristoph Utzinger bassTobias Friedli drumsNicole u
 nd ihre Gents of Rhythm verschreiben sich zeitlosem authentischem Swing mi
 t Charakter\, der Tänzerinnen und Tänzern auf den Leib geschneidert ist.
  Mit Feuer für den Beat\, Spiel mit dem Rhythmus und einer starken Stimme
  schafft Nicole einen ehrlichen\, energiegeladenen Sound. Die Bandleaderin
  beweist Flexibilität und interpretiert mit Individualität\, die sich de
 m Zeitgeist entzieht. Selbst begeisterte Lindy-Hop und Balboa- Tänzerin\,
  sorgt Nicole mit den hochkarätigen Musikern der Gents of Rhythm\, für b
 egeisternde Tanznächte.\n\nVeranstaltungsort: \nAula im PROGR\nSpeicherga
 sse 4\n3011 Bern\nKarte: https://map.search.ch/Bern\,Speichergasse-4
DTSTART:20261121T203000
DTEND:20261122T013000
LOCATION:Speichergasse 4\, 3011 Bern
END:VEVENT
END:VCALENDAR
An internal server error occurred.