BEGIN:VCALENDAR
PRODID:-//eluceo/ical//2.0/EN
VERSION:2.0
CALSCALE:GREGORIAN
BEGIN:VEVENT
UID:d5cff385b6cf9c44bf12c2af25afd9a3
DTSTAMP:20260422T140026Z
SUMMARY:Rock the Boogie @ Café des Artistes
DESCRIPTION:19:30&nbsp\;Boogie&nbsp\;Woogie&nbsp\;Schnuppertanzkurs&nbsp\;m
 it&nbsp\;Ika&nbsp\;&amp\;&nbsp\;David20:00&nbsp\;Boogie&nbsp\;Woogie\,&nbs
 p\;Rock'n'Roll &amp\; Rhythm'n'Blues&nbsp\;Dance&nbsp\;Floor&nbsp\;mit&nbs
 p\;DJ AirMonkey\n\nVeranstaltungsort: \nCafé des Artistes\nPapiermühlest
 rasse 50\n Bern\nKarte: https://map.search.ch/Bern\,Papiermühlestrasse-50
DTSTART:20260515T193000
DTEND:20260515T230000
LOCATION:Papiermühlestrasse 50\,  Bern
END:VEVENT
END:VCALENDAR
An internal server error occurred.