BEGIN:VCALENDAR
PRODID:-//eluceo/ical//2.0/EN
VERSION:2.0
CALSCALE:GREGORIAN
BEGIN:VEVENT
UID:c1e9f08323dd0eb7ae7b66326d166a1e
DTSTAMP:20260422T135429Z
SUMMARY:Tanzbar mit Live Band und Crashkurs
DESCRIPTION:Tanzbar mit Live Band und Crashkurs. Things of Swing spielt gro
 ovigen\, traditionellen New Orleans Swing und Hot Jazz zum Lindyhop / Shag
  / Balboa tanzen.Die TanzBar im Kreuz Nidau bietet von September bis Juni 
 jeweils am 3. Donnerstag im Monat viel Raum und perfektes Tanzparkett im K
 reuzsaal. Wechselnde DJ's und Bands sorgen für eine bunte Mischung von kn
 isterndem Vinyl bis Soundclouds sowie Live Musik aus fast 100 Jahren Swing
 musik.www.thingsofswing.comTüröffnung 19.30 UhrCrashkurs 19.50 - 20.30 U
 hrSocialdance mit Livemusik + DJ: 20.30 - 23.30 Uhrwww.swinginbiel.ch\n\nV
 eranstaltungsort: \nKreuz Nidau\nHauptstrasse 33\n2560 Nidau\nKarte: https
 ://map.search.ch/Nidau\,Hauptstrasse-33
DTSTART:20261015T193000
DTEND:20261015T233000
LOCATION:Hauptstrasse 33\, 2560 Nidau
END:VEVENT
END:VCALENDAR
An internal server error occurred.