BEGIN:VCALENDAR
PRODID:-//eluceo/ical//2.0/EN
VERSION:2.0
CALSCALE:GREGORIAN
BEGIN:VEVENT
UID:ceca7b8813131725d19adbd40760ced5
DTSTAMP:20260422T135445Z
SUMMARY:Swing Time Friday
DESCRIPTION:\n\nVeranstaltungsort: \nThe Rhythm Rebels\nAarbergergasse 40\n
 3011 Bern\nKarte: https://map.search.ch/Bern\,Aarbergergasse-40
DTSTART:20260828T210000
DTEND:20260828T233000
LOCATION:Aarbergergasse 40\, 3011 Bern
END:VEVENT
END:VCALENDAR
An internal server error occurred.