BEGIN:VCALENDAR
PRODID:-//eluceo/ical//2.0/EN
VERSION:2.0
CALSCALE:GREGORIAN
BEGIN:VEVENT
UID:170d0e9e375b8961b89d8fea25ac4a92
DTSTAMP:20260422T135445Z
SUMMARY:BEswingt
DESCRIPTION:20.30 Lindy CrashkursAb 21.30 Tanzen zu DJ-Musik\n\nVeranstaltu
 ngsort: \nAula im PROGR\nSpeichergasse 4\n3011 Bern\nKarte: https://map.se
 arch.ch/Bern\,Speichergasse-4
DTSTART:20260627T203000
DTEND:20260628T013000
LOCATION:Speichergasse 4\, 3011 Bern
END:VEVENT
END:VCALENDAR
An internal server error occurred.