BEGIN:VCALENDAR
PRODID:-//eluceo/ical//2.0/EN
VERSION:2.0
CALSCALE:GREGORIAN
BEGIN:VEVENT
UID:421392ba30ad9fdb0fd0305c1b3bf91f
DTSTAMP:20260422T140214Z
SUMMARY:Swing ONO
DESCRIPTION:Wir&nbsp\;tanzen&nbsp\;unter&nbsp\;der&nbsp\;Discokugel&nbsp\;i
 m&nbsp\;schönen&nbsp\;Gewölbekeller&nbsp\;zur&nbsp\;Musik&nbsp\;von&nbsp
 \;DJ&nbsp\;Tom.\n\nVeranstaltungsort: \nONO\nKramgasse 6\n3011 Bern\nKarte
 : https://map.search.ch/Bern\,Kramgasse-6
DTSTART:20260517T200000
DTEND:20260517T230000
LOCATION:Kramgasse 6\, 3011 Bern
END:VEVENT
END:VCALENDAR
An internal server error occurred.