BEGIN:VCALENDAR
PRODID:-//eluceo/ical//2.0/EN
VERSION:2.0
CALSCALE:GREGORIAN
BEGIN:VEVENT
UID:7e2dc01e6a2f29115990d63ed570eef3
DTSTAMP:20260422T135501Z
SUMMARY:BEswingt
DESCRIPTION:Ab 22 Uhr die Band "Dussex'True-Blue"Manche Bands scheinen im L
 aufe der Jahre nicht wirklich zu altern. Ein gutesBeispiel dafür ist die 
 Formation „Dussex‘ True Blue“. Seit über 30 Jahrenspaziert sie quer
  durch die Musikgenres und trotzdem wirkt ihr Programmfrisch und wie aus e
 inem Guss.Von funkigem Blues über swingenden Jazz bis hin zu französisch
 en Chansonsschöpft die Band ihre Inspiration aus vielfältigen Einflüsse
 n. Dabeibleibt sie ihren musikalischen Wurzeln und der Leidenschaft für S
 oul\, Bluesund Groove stets treu.\n\nVeranstaltungsort: \nAula im PROGR\nS
 peichergasse 4\n3011 Bern\nKarte: https://map.search.ch/Bern\,Speichergass
 e-4
DTSTART:20260919T203000
DTEND:20260920T013000
LOCATION:Speichergasse 4\, 3011 Bern
END:VEVENT
END:VCALENDAR
An internal server error occurred.