BEGIN:VCALENDAR
PRODID:-//eluceo/ical//2.0/EN
VERSION:2.0
CALSCALE:GREGORIAN
BEGIN:VEVENT
UID:2341378b4f2accb1136dd8c1515380aa
DTSTAMP:20260422T135752Z
SUMMARY:MixMax: Lindy\, Blues & West Coast Swing Special
DESCRIPTION:MixMax: Lindy\, Blues &amp\; West Coast Swing Special:Alle 3 Li
 eder wechselt der Musik-Stil.20.00 West Coast Swing Crashkurs für Anfäng
 er:innen mit PamelaAb 21.00 Socialdance mit DJsEintritt: Tanzfestpässe f
 ür 15.- (Eventpass) / 25.- (Tagespass) / 35.- (Festivalpass)@&nbsp\;The&n
 bsp\;Rhythm&nbsp\;Rebels&nbsp\;Swing&nbsp\;Dance&nbsp\;Studio&nbsp\;(Aarbe
 rgergasse&nbsp\;40\,&nbsp\;3011&nbsp\;Bern)Glastür&nbsp\;links&nbsp\;im&n
 bsp\;Innenhof\,&nbsp\;im&nbsp\;4.&nbsp\;StockCode&nbsp\;für&nbsp\;die&nbs
 p\;Eingangstür&nbsp\;unten:&nbsp\;"4011F"Wichtig:&nbsp\;An&nbsp\;diesem&n
 bsp\;Anlass&nbsp\;kann&nbsp\;für&nbsp\;Werbezwecke&nbsp\;gefilmt&nbsp\;we
 rden&nbsp\;oder&nbsp\;Fotos&nbsp\;können&nbsp\;gemacht&nbsp\;werden&nbsp\
 ;(diese&nbsp\;werden&nbsp\;auf&nbsp\;Socialmedia-Kanälen&nbsp\;eingesetzt
 ).&nbsp\;Wenn&nbsp\;du&nbsp\;nicht&nbsp\;darauf&nbsp\;sein&nbsp\;möchtest
 \,&nbsp\;melde&nbsp\;dich&nbsp\;an&nbsp\;der&nbsp\;Eintrittskasse.&nbsp\;\
 n\nVeranstaltungsort: \nThe Rhythm Rebels\nAarbergergasse 40\n3011 Bern\nK
 arte: https://map.search.ch/Bern\,Aarbergergasse-40
DTSTART:20260509T200000
DTEND:20260509T003000
LOCATION:Aarbergergasse 40\, 3011 Bern
END:VEVENT
END:VCALENDAR
An internal server error occurred.